BEGIN:VCALENDAR
VERSION:2.0
PRODID:-//Apple Inc.//Mac OS X 10.12.5//EN
CALSCALE:GREGORIAN
BEGIN:VTIMEZONE
TZID:Australia/Brisbane
BEGIN:DAYLIGHT
TZOFFSETFROM:+1000
RRULE:FREQ=YEARLY;UNTIL=19911026T160000Z;BYMONTH=10;BYDAY=-1SU
DTSTART:19891029T020000
TZNAME:AEDT
TZOFFSETTO:+1100
END:DAYLIGHT
BEGIN:STANDARD
TZOFFSETFROM:+1100
DTSTART:19920301T030000
TZNAME:AEST
TZOFFSETTO:+1000
END:STANDARD
END:VTIMEZONE
BEGIN:VEVENT
TRANSP:OPAQUE
DTEND;TZID=Australia/Brisbane:20170826T170000
LAST-MODIFIED:20170607T004235Z
UID:8439A4C2-5ACD-441F-B6CD-810E1AEBC999
DTSTAMP:20170607T004235Z
LOCATION:107 Orange Grove Road\, Coopers Plains QLD\, Australia
DESCRIPTION:You are invited to a special Brisbane Southside History Netw
 ork (BSNH) workshop which will launch a major phase of the Mapping Brisb
 ane History Project\, displaying historical sites across Brisbane Souths
 ide.\n2pm to 5pm Saturday\, 26 August 2017 in the Large Meeting Room at 
 Coopers Plains Library\, 107 Orange Grove Road\, Coopers Plains.\nParkin
 g at library rear\, via Bosworth and Perginga Streets.
STATUS:CONFIRMED
SEQUENCE:0
X-APPLE-TRAVEL-ADVISORY-BEHAVIOR:AUTOMATIC
SUMMARY:Brisbane Southside History Network (BSHN) Workshop 
DTSTART;TZID=Australia/Brisbane:20170826T140000
CREATED:20170607T004235Z
X-APPLE-STRUCTURED-LOCATION;VALUE=URI;X-APPLE-MAPKIT-HANDLE=CAES5gEaEgkR
 xm6er5A7wBGTxyXLQiFjQCJ6CglBdXN0cmFsaWESAkFVGgpRdWVlbnNsYW5kIgNRTEQyDkNv
 b3BlcnMgUGxhaW5zOgQ0MTA4QghCcmlzYmFuZVIRT3JhbmdlIEdyb3ZlIFJvYWRaAzEwN2IV
 MTA3IE9yYW5nZSBHcm92ZSBSb2FkigEIQnJpc2JhbmUqFTEwNyBPcmFuZ2UgR3JvdmUgUm9h
 ZDIVMTA3IE9yYW5nZSBHcm92ZSBSb2FkMhdDb29wZXJzIFBsYWlucyBRTEQgNDEwODIJQXVz
 dHJhbGlhODlAAg==;X-APPLE-RADIUS=49.91294738188395;X-TITLE="107 Orange Gr
 ove Road, Coopers Plains QLD, Australia":geo:-27.565180,153.039404
BEGIN:VALARM
X-WR-ALARMUID:7ED42BC5-73BF-4B41-B485-76FB0C5ACA47
UID:7ED42BC5-73BF-4B41-B485-76FB0C5ACA47
TRIGGER:PT9H
DESCRIPTION:This is an event reminder
ACTION:DISPLAY
END:VALARM
END:VEVENT
END:VCALENDAR
